BEGIN:VCALENDAR
VERSION:2.0
PRODID:-//OBM RiVa - ECPv6.15.18//NONSGML v1.0//EN
CALSCALE:GREGORIAN
METHOD:PUBLISH
X-WR-CALNAME:OBM RiVa
X-ORIGINAL-URL:https://obm-riva.nl
X-WR-CALDESC:Evenementen voor OBM RiVa
REFRESH-INTERVAL;VALUE=DURATION:PT1H
X-Robots-Tag:noindex
X-PUBLISHED-TTL:PT1H
BEGIN:VTIMEZONE
TZID:Europe/Amsterdam
BEGIN:DAYLIGHT
TZOFFSETFROM:+0100
TZOFFSETTO:+0200
TZNAME:CEST
DTSTART:20250330T010000
END:DAYLIGHT
BEGIN:STANDARD
TZOFFSETFROM:+0200
TZOFFSETTO:+0100
TZNAME:CET
DTSTART:20251026T010000
END:STANDARD
BEGIN:DAYLIGHT
TZOFFSETFROM:+0100
TZOFFSETTO:+0200
TZNAME:CEST
DTSTART:20260329T010000
END:DAYLIGHT
BEGIN:STANDARD
TZOFFSETFROM:+0200
TZOFFSETTO:+0100
TZNAME:CET
DTSTART:20261025T010000
END:STANDARD
BEGIN:DAYLIGHT
TZOFFSETFROM:+0100
TZOFFSETTO:+0200
TZNAME:CEST
DTSTART:20270328T010000
END:DAYLIGHT
BEGIN:STANDARD
TZOFFSETFROM:+0200
TZOFFSETTO:+0100
TZNAME:CET
DTSTART:20271031T010000
END:STANDARD
END:VTIMEZONE
BEGIN:VEVENT
DTSTART;TZID=Europe/Amsterdam:20260422T090000
DTEND;TZID=Europe/Amsterdam:20260422T170000
DTSTAMP:20260420T211656
CREATED:20260320T091203Z
LAST-MODIFIED:20260413T113010Z
UID:12827-1776848400-1776877200@obm-riva.nl
SUMMARY:Dag 2   2-daagse cursus Praktijkopleider
DESCRIPTION:
URL:https://obm-riva.nl/agenda-item/dag-2-cursus-praktijkopleider/
LOCATION:Geldermalsen
CATEGORIES:Geldermalsen,Event
END:VEVENT
END:VCALENDAR